BEGIN:VCALENDAR
VERSION:2.0
PRODID:-//Diana Diaz - ECPv6.2.3//NONSGML v1.0//EN
CALSCALE:GREGORIAN
METHOD:PUBLISH
X-WR-CALNAME:Diana Diaz
X-ORIGINAL-URL:https://dianadiaz.ch
X-WR-CALDESC:Veranstaltungen für Diana Diaz
REFRESH-INTERVAL;VALUE=DURATION:PT1H
X-Robots-Tag:noindex
X-PUBLISHED-TTL:PT1H
BEGIN:VTIMEZONE
TZID:Europe/Zurich
BEGIN:DAYLIGHT
TZOFFSETFROM:+0100
TZOFFSETTO:+0200
TZNAME:CEST
DTSTART:20230326T010000
END:DAYLIGHT
BEGIN:STANDARD
TZOFFSETFROM:+0200
TZOFFSETTO:+0100
TZNAME:CET
DTSTART:20231029T010000
END:STANDARD
END:VTIMEZONE
BEGIN:VEVENT
DTSTART;VALUE=DATE:20231001
DTEND;VALUE=DATE:20231002
DTSTAMP:20231022T013412
CREATED:20230903T215508Z
LAST-MODIFIED:20230903T215508Z
UID:951-1696118400-1696204799@dianadiaz.ch
SUMMARY:Postkartenschreiben Junge Grüne ZH
DESCRIPTION:
URL:https://dianadiaz.ch/event/postkartenschreiben-junge-gruene-zh
END:VEVENT
END:VCALENDAR